BEGIN:VCALENDAR
VERSION:2.0
PRODID:-//We So Cal - ECPv4.2.5//NONSGML v1.0//EN
CALSCALE:GREGORIAN
METHOD:PUBLISH
X-WR-CALNAME:We So Cal
X-ORIGINAL-URL:https://wesocal.com
X-WR-CALDESC:Events for We So Cal
BEGIN:VEVENT
DTSTART;TZID=UTC+0:20150226T120000
DTEND;TZID=UTC+0:20150226T130000
DTSTAMP:20260423T174718
CREATED:20150214T185300
LAST-MODIFIED:20150214T185300
UID:232-1424952000-1424955600@wesocal.com
SUMMARY:ArtStop: Ramesses II
DESCRIPTION:This ArtStop discusses Ramesses II in Out of Egypt: Ramesses II in Context and is led by Brittany Salyers\, Coordinator of Public Programs.\n\nArtStops are 15 minute\, staff-led tours of one to three works on view. Museum curators and educators present these brief yet always enlightening and informative talks every Thursday and third Tuesday at noon.
URL:https://wesocal.com/event/artstop-ramesses-ii/
LOCATION:1450 El Prado\, San Diego\, CA\, 92101\, United States
ATTACH;FMTTYPE=image/jpeg:https://wesocal.com/wp-content/uploads/2015/02/san-diego-museum-of-artjpg.jpg
END:VEVENT
END:VCALENDAR