BEGIN:VCALENDAR
VERSION:2.0
PRODID:-//We So Cal - ECPv4.2.5//NONSGML v1.0//EN
CALSCALE:GREGORIAN
METHOD:PUBLISH
X-WR-CALNAME:We So Cal
X-ORIGINAL-URL:https://wesocal.com
X-WR-CALDESC:Events for We So Cal
BEGIN:VEVENT
DTSTART;TZID=UTC+0:20150221T100000
DTEND;TZID=UTC+0:20150222T160000
DTSTAMP:20260423T191030
CREATED:20150214T184321
LAST-MODIFIED:20150214T184321
UID:223-1424512800-1424620800@wesocal.com
SUMMARY:Chinese New Year Food & Cultural Fair
DESCRIPTION:Come out and celebrate the auspicious year ahead at the Free Chinese New Year Food and Cultural Fair\, February 21-22 at 3rd and J St. downtown.\n\nIn 2015\, we again welcome the San Diego community to share our celebration of the Year of the Ram - a time for family\, friendship\, and giving thanks.\n\nThis is a free two-day event fun-packed with various cultural performance including lion dancers\, martial arts demonstrations and acrobatics\, children's crafts\, lantern parade and a wide variety of Chinese and Asian food booths.\n\nVisit the San Diego Chinese Historical Museum to learn about San Diego Chinatown history\, see our traditional garden with koi pond\, and see what's new at the Dr. Sun Yat-Sen Memorial Extension\, housing the museum's rotating exhibits. Free activities will be offered to museum guests including paper lanter making\, wood block printing\, and calligraphy.
URL:https://wesocal.com/event/chinese-new-year-food-cultural-fair/
LOCATION:404 3rd Ave\, San Diego\, CA\, 92101\, United States
ATTACH;FMTTYPE=image/jpeg:https://wesocal.com/wp-content/uploads/2015/02/san-diego-chinese-historical-society-and-museumjpg.jpg
END:VEVENT
END:VCALENDAR