BEGIN:VCALENDAR
VERSION:2.0
PRODID:-//We So Cal - ECPv4.2.5//NONSGML v1.0//EN
CALSCALE:GREGORIAN
METHOD:PUBLISH
X-WR-CALNAME:We So Cal
X-ORIGINAL-URL:https://wesocal.com
X-WR-CALDESC:Events for We So Cal
BEGIN:VEVENT
DTSTART;TZID=UTC+0:20150220T180000
DTEND;TZID=UTC+0:20150221T220000
DTSTAMP:20260423T174912
CREATED:20150214T182933
LAST-MODIFIED:20150214T182933
UID:220-1424455200-1424556000@wesocal.com
SUMMARY:San Diego Winter Brew Fest
DESCRIPTION:The San Diego Winter Brew Fest will celebrate craft beverages from around California and beyond and features; live local music\, food\, and other vendors. This event benefits Outdoor Outreach and the San Diego Mountain Bike Association (SDMBA).\n\nGeneral Admission\n\nWarm up with tastings of some of the best brews available throughout the night - souvenir glass included!\n\nVIP Session\n\nGet first taste of great brews with this exclusive\, limited admittance VIP hour with a special cheese and beer pairing. Don't miss out!
URL:https://wesocal.com/event/san-diego-winter-brew-fest/
LOCATION:2131 Pan American Plaza\, San Diego\, CA\, 92101\, United States
ATTACH;FMTTYPE=image/jpeg:https://wesocal.com/wp-content/uploads/2015/02/stone-brewing-co-beer-pour.jpg
END:VEVENT
END:VCALENDAR