BEGIN:VCALENDAR
VERSION:2.0
PRODID:-//We So Cal - ECPv4.2.5//NONSGML v1.0//EN
CALSCALE:GREGORIAN
METHOD:PUBLISH
X-WR-CALNAME:We So Cal
X-ORIGINAL-URL:https://wesocal.com
X-WR-CALDESC:Events for We So Cal
BEGIN:VEVENT
DTSTART;TZID=UTC+0:20150219T210000
DTEND;TZID=UTC+0:20150219T234500
DTSTAMP:20260423T172859
CREATED:20150214T191104
LAST-MODIFIED:20150214T191104
UID:235-1424379600-1424389500@wesocal.com
SUMMARY:Sliink
DESCRIPTION:Spend your Thursday night at FLUXX with Sliink! come grab a drink and get on the dance floor!\n\nSLIINK: https://www.youtube.com/watch?v=UOYuOsgRBf8\n\n21+ | Dress code strictly enforced.
URL:https://wesocal.com/event/sliink/
LOCATION:500 4th Ave\, San Diego\, CA\, 92101\, United States
ATTACH;FMTTYPE=image/jpeg:https://wesocal.com/wp-content/uploads/2015/02/crazy-lighting.jpg
END:VEVENT
END:VCALENDAR